BEGIN:VCALENDAR
VERSION:2.0
PRODID:-//Keighley Association of Engineers - ECPv6.15.20//NONSGML v1.0//EN
CALSCALE:GREGORIAN
METHOD:PUBLISH
X-WR-CALNAME:Keighley Association of Engineers
X-ORIGINAL-URL:https://kaoe.org.uk
X-WR-CALDESC:Events for Keighley Association of Engineers
REFRESH-INTERVAL;VALUE=DURATION:PT1H
X-Robots-Tag:noindex
X-PUBLISHED-TTL:PT1H
BEGIN:VTIMEZONE
TZID:Europe/London
BEGIN:DAYLIGHT
TZOFFSETFROM:+0000
TZOFFSETTO:+0100
TZNAME:BST
DTSTART:20010325T010000
END:DAYLIGHT
BEGIN:STANDARD
TZOFFSETFROM:+0100
TZOFFSETTO:+0000
TZNAME:GMT
DTSTART:20011028T010000
END:STANDARD
BEGIN:DAYLIGHT
TZOFFSETFROM:+0000
TZOFFSETTO:+0100
TZNAME:BST
DTSTART:20020331T010000
END:DAYLIGHT
BEGIN:STANDARD
TZOFFSETFROM:+0100
TZOFFSETTO:+0000
TZNAME:GMT
DTSTART:20021027T010000
END:STANDARD
BEGIN:DAYLIGHT
TZOFFSETFROM:+0000
TZOFFSETTO:+0100
TZNAME:BST
DTSTART:20030330T010000
END:DAYLIGHT
BEGIN:STANDARD
TZOFFSETFROM:+0100
TZOFFSETTO:+0000
TZNAME:GMT
DTSTART:20031026T010000
END:STANDARD
BEGIN:DAYLIGHT
TZOFFSETFROM:+0000
TZOFFSETTO:+0100
TZNAME:BST
DTSTART:20040328T010000
END:DAYLIGHT
BEGIN:STANDARD
TZOFFSETFROM:+0100
TZOFFSETTO:+0000
TZNAME:GMT
DTSTART:20041031T010000
END:STANDARD
BEGIN:DAYLIGHT
TZOFFSETFROM:+0000
TZOFFSETTO:+0100
TZNAME:BST
DTSTART:20050327T010000
END:DAYLIGHT
BEGIN:STANDARD
TZOFFSETFROM:+0100
TZOFFSETTO:+0000
TZNAME:GMT
DTSTART:20051030T010000
END:STANDARD
BEGIN:DAYLIGHT
TZOFFSETFROM:+0000
TZOFFSETTO:+0100
TZNAME:BST
DTSTART:20060326T010000
END:DAYLIGHT
BEGIN:STANDARD
TZOFFSETFROM:+0100
TZOFFSETTO:+0000
TZNAME:GMT
DTSTART:20061029T010000
END:STANDARD
BEGIN:DAYLIGHT
TZOFFSETFROM:+0000
TZOFFSETTO:+0100
TZNAME:BST
DTSTART:20070325T010000
END:DAYLIGHT
BEGIN:STANDARD
TZOFFSETFROM:+0100
TZOFFSETTO:+0000
TZNAME:GMT
DTSTART:20071028T010000
END:STANDARD
BEGIN:DAYLIGHT
TZOFFSETFROM:+0000
TZOFFSETTO:+0100
TZNAME:BST
DTSTART:20080330T010000
END:DAYLIGHT
BEGIN:STANDARD
TZOFFSETFROM:+0100
TZOFFSETTO:+0000
TZNAME:GMT
DTSTART:20081026T010000
END:STANDARD
BEGIN:DAYLIGHT
TZOFFSETFROM:+0000
TZOFFSETTO:+0100
TZNAME:BST
DTSTART:20090329T010000
END:DAYLIGHT
BEGIN:STANDARD
TZOFFSETFROM:+0100
TZOFFSETTO:+0000
TZNAME:GMT
DTSTART:20091025T010000
END:STANDARD
END:VTIMEZONE
BEGIN:VEVENT
DTSTART;TZID=Europe/London:20081008T200000
DTEND;TZID=Europe/London:20081008T210000
DTSTAMP:20260416T223219
CREATED:20260109T152047Z
LAST-MODIFIED:20260115T154458Z
UID:2672-1223496000-1223499600@kaoe.org.uk
SUMMARY:Visit to Knabs Ridge Wind Farm (Harrogate)
DESCRIPTION:Wednesday\, 8 October 2008 at 19:00
URL:https://kaoe.org.uk/event/visit-to-knabs-ridge-wind-farm-harrogate/
CATEGORIES:Visit
ATTACH;FMTTYPE=image/jpeg:https://kaoe.org.uk/wp-content/uploads/2008/10/IMG_4014.jpg
END:VEVENT
BEGIN:VEVENT
DTSTART;TZID=Europe/London:20081001T200000
DTEND;TZID=Europe/London:20081001T220000
DTSTAMP:20260416T223219
CREATED:20260109T152226Z
LAST-MODIFIED:20260115T154510Z
UID:2674-1222891200-1222898400@kaoe.org.uk
SUMMARY:Visit to Lateral Design Concepts (Keighley)
DESCRIPTION:Wednesday\, 1 October 2008 at 19:00
URL:https://kaoe.org.uk/event/visit-to-lateral-design-concepts-keighley/
CATEGORIES:Visit
END:VEVENT
BEGIN:VEVENT
DTSTART;TZID=Europe/London:20080901T200000
DTEND;TZID=Europe/London:20080901T220000
DTSTAMP:20260416T223219
CREATED:20260109T152331Z
LAST-MODIFIED:20260109T152331Z
UID:2676-1220299200-1220306400@kaoe.org.uk
SUMMARY:Visit to McEwen Boilers (Cowling)
DESCRIPTION:Monday\, 1 September 2008 at 19:00
URL:https://kaoe.org.uk/event/visit-to-mcewen-boilers-cowling/
CATEGORIES:Visit
END:VEVENT
BEGIN:VEVENT
DTSTART;TZID=Europe/London:20080501T200000
DTEND;TZID=Europe/London:20080501T220000
DTSTAMP:20260416T223219
CREATED:20260109T152432Z
LAST-MODIFIED:20260109T152432Z
UID:2678-1209672000-1209679200@kaoe.org.uk
SUMMARY:Visit to Saltaire Brewery (Shipley)
DESCRIPTION:Thursday\, 1 May 2008  at 19:00
URL:https://kaoe.org.uk/event/visit-to-saltaire-brewery-shipley/
CATEGORIES:Visit
END:VEVENT
BEGIN:VEVENT
DTSTART;TZID=Europe/London:20080401T200000
DTEND;TZID=Europe/London:20080401T220000
DTSTAMP:20260416T223219
CREATED:20260109T152620Z
LAST-MODIFIED:20260109T152620Z
UID:2682-1207080000-1207087200@kaoe.org.uk
SUMMARY:Visit to Landis Lund (Crosshills)
DESCRIPTION:Tuesday\, 1 April 2008  at 19:00
URL:https://kaoe.org.uk/event/visit-to-landis-lund-crosshills/
CATEGORIES:Visit
END:VEVENT
BEGIN:VEVENT
DTSTART;TZID=Europe/London:20080401T200000
DTEND;TZID=Europe/London:20080401T220000
DTSTAMP:20260416T223219
CREATED:20260109T152523Z
LAST-MODIFIED:20260109T152523Z
UID:2680-1207080000-1207087200@kaoe.org.uk
SUMMARY:Visit to Allied Glass (Leeds)
DESCRIPTION:Tuesday\, 1 April 2008 at 19:00
URL:https://kaoe.org.uk/event/visit-to-allied-glass-leeds/
CATEGORIES:Visit
END:VEVENT
BEGIN:VEVENT
DTSTART;TZID=Europe/London:20080208T173000
DTEND;TZID=Europe/London:20080208T190000
DTSTAMP:20260416T223219
CREATED:20260109T153010Z
LAST-MODIFIED:20260109T153010Z
UID:2686-1202491800-1202497200@kaoe.org.uk
SUMMARY:Visit to Arla Foods Dairy and Bottling Facility (Leeds)
DESCRIPTION:Friday\, 8 February 2008 at 17:30
URL:https://kaoe.org.uk/event/visit-to-arla-foods-dairy-and-bottling-facility-leeds/
CATEGORIES:Visit
END:VEVENT
BEGIN:VEVENT
DTSTART;TZID=Europe/London:20071101T190000
DTEND;TZID=Europe/London:20071101T210000
DTSTAMP:20260416T223219
CREATED:20260109T153444Z
LAST-MODIFIED:20260109T153454Z
UID:2692-1193943600-1193950800@kaoe.org.uk
SUMMARY:Visit to Byworth Boilers (Keighley)
DESCRIPTION:Thursday\, 1 November 2007 at 19:00
URL:https://kaoe.org.uk/event/visit-to-byworth-boilers-keighley/
CATEGORIES:Visit
END:VEVENT
BEGIN:VEVENT
DTSTART;TZID=Europe/London:20071001T200000
DTEND;TZID=Europe/London:20071001T220000
DTSTAMP:20260416T223219
CREATED:20260109T153919Z
LAST-MODIFIED:20260109T153919Z
UID:2694-1191268800-1191276000@kaoe.org.uk
SUMMARY:Visit to Claro Precision Engineering (Knarsbrough)
DESCRIPTION:Monday\, 1 October 2007 at 19:00
URL:https://kaoe.org.uk/event/visit-to-claro-precision-engineering-knarsbrough/
CATEGORIES:Visit
END:VEVENT
BEGIN:VEVENT
DTSTART;TZID=Europe/London:20070501T200000
DTEND;TZID=Europe/London:20070501T220000
DTSTAMP:20260416T223219
CREATED:20260109T154551Z
LAST-MODIFIED:20260109T154641Z
UID:2700-1178049600-1178056800@kaoe.org.uk
SUMMARY:Visit to Kone Escalators (Keighley)
DESCRIPTION:Tuesday\, 1 May 2007 at 19:00
URL:https://kaoe.org.uk/event/visit-to-kone-escalators-keighley/
CATEGORIES:Visit
END:VEVENT
BEGIN:VEVENT
DTSTART;TZID=Europe/London:20070501T200000
DTEND;TZID=Europe/London:20070501T220000
DTSTAMP:20260416T223219
CREATED:20260109T154418Z
LAST-MODIFIED:20260109T154418Z
UID:2698-1178049600-1178056800@kaoe.org.uk
SUMMARY:Visit to Craftsman Tools (Otley)
DESCRIPTION:Tuesday\, 1 May 2007 at 19:00
URL:https://kaoe.org.uk/event/visit-to-craftsman-tools-otley/
CATEGORIES:Visit
END:VEVENT
BEGIN:VEVENT
DTSTART;TZID=Europe/London:20061201T190000
DTEND;TZID=Europe/London:20061201T210000
DTSTAMP:20260416T223219
CREATED:20260109T155200Z
LAST-MODIFIED:20260111T125114Z
UID:2706-1164999600-1165006800@kaoe.org.uk
SUMMARY:Visit to Airedale Springs Ltd (Haworth)
DESCRIPTION:Friday\, 1 December 2006 at 19:00
URL:https://kaoe.org.uk/event/visit-to-airedale-springs-ltd-haworth/
CATEGORIES:Visit
ATTACH;FMTTYPE=image/jpeg:https://kaoe.org.uk/wp-content/uploads/2016/09/small-springs.jpg
END:VEVENT
BEGIN:VEVENT
DTSTART;TZID=Europe/London:20060901T200000
DTEND;TZID=Europe/London:20060901T220000
DTSTAMP:20260416T223219
CREATED:20260109T160141Z
LAST-MODIFIED:20260109T160141Z
UID:2712-1157140800-1157148000@kaoe.org.uk
SUMMARY:Visit to Dean Smith and Grace (Keighley)
DESCRIPTION:Friday\, 1 September 2006 at 19:00
URL:https://kaoe.org.uk/event/visit-to-dean-smith-and-grace-keighley/
CATEGORIES:Visit
END:VEVENT
BEGIN:VEVENT
DTSTART;TZID=Europe/London:20060201T190000
DTEND;TZID=Europe/London:20060201T210000
DTSTAMP:20260416T223219
CREATED:20260109T170650Z
LAST-MODIFIED:20260109T170650Z
UID:2732-1138820400-1138827600@kaoe.org.uk
SUMMARY:Visit to Keighley Worth Valley Railway
DESCRIPTION:
URL:https://kaoe.org.uk/event/visit-to-keighley-worth-valley-railway-2/
CATEGORIES:Visit
END:VEVENT
BEGIN:VEVENT
DTSTART;TZID=Europe/London:20060101T190000
DTEND;TZID=Europe/London:20060101T200000
DTSTAMP:20260416T223219
CREATED:20260109T165812Z
LAST-MODIFIED:20260109T165812Z
UID:2716-1136142000-1136145600@kaoe.org.uk
SUMMARY:Visit to Manor Paints
DESCRIPTION:
URL:https://kaoe.org.uk/event/visit-to-manor-paints/
CATEGORIES:Visit
END:VEVENT
BEGIN:VEVENT
DTSTART;TZID=Europe/London:20051201T190000
DTEND;TZID=Europe/London:20061201T200000
DTSTAMP:20260416T223219
CREATED:20260109T165859Z
LAST-MODIFIED:20260109T165859Z
UID:2718-1133463600-1165003200@kaoe.org.uk
SUMMARY:Visit to Bradford Industrial Museum
DESCRIPTION:
URL:https://kaoe.org.uk/event/visit-to-bradford-industrial-museum/
CATEGORIES:Visit
END:VEVENT
BEGIN:VEVENT
DTSTART;TZID=Europe/London:20051201T190000
DTEND;TZID=Europe/London:20051201T210000
DTSTAMP:20260416T223219
CREATED:20260109T165946Z
LAST-MODIFIED:20260109T165946Z
UID:2720-1133463600-1133470800@kaoe.org.uk
SUMMARY:Visit to Landis Lund (Crosshills)
DESCRIPTION:
URL:https://kaoe.org.uk/event/visit-to-landis-lund-crosshills-2/
CATEGORIES:Visit
END:VEVENT
BEGIN:VEVENT
DTSTART;TZID=Europe/London:20051001T200000
DTEND;TZID=Europe/London:20051001T220000
DTSTAMP:20260416T223219
CREATED:20260109T170055Z
LAST-MODIFIED:20260109T170055Z
UID:2722-1128196800-1128204000@kaoe.org.uk
SUMMARY:Dr Chris Wright - A History of Anaesthetic and Its Application
DESCRIPTION:
URL:https://kaoe.org.uk/event/dr-chris-wright-a-history-of-anaesthetic-and-its-application/
CATEGORIES:Visit
END:VEVENT
BEGIN:VEVENT
DTSTART;TZID=Europe/London:20050501T200000
DTEND;TZID=Europe/London:20050501T210000
DTSTAMP:20260416T223219
CREATED:20260109T170314Z
LAST-MODIFIED:20260109T170314Z
UID:2726-1114977600-1114981200@kaoe.org.uk
SUMMARY:Visit to Coca Cola
DESCRIPTION:
URL:https://kaoe.org.uk/event/visit-to-coca-cola/
CATEGORIES:Visit
END:VEVENT
BEGIN:VEVENT
DTSTART;TZID=Europe/London:20041201T190000
DTEND;TZID=Europe/London:20041201T200000
DTSTAMP:20260416T223219
CREATED:20260109T171051Z
LAST-MODIFIED:20260109T171051Z
UID:2738-1101927600-1101931200@kaoe.org.uk
SUMMARY:Visit to Denso Marston (Shipley)
DESCRIPTION:
URL:https://kaoe.org.uk/event/visit-to-denso-marston-shipley/
CATEGORIES:Visit
END:VEVENT
BEGIN:VEVENT
DTSTART;TZID=Europe/London:20041001T200000
DTEND;TZID=Europe/London:20041001T210000
DTSTAMP:20260416T223219
CREATED:20260109T171313Z
LAST-MODIFIED:20260109T171313Z
UID:2742-1096660800-1096664400@kaoe.org.uk
SUMMARY:Visit to Greening and Crowther Engineering Group Ltd (Halifax)
DESCRIPTION:
URL:https://kaoe.org.uk/event/visit-to-greening-and-crowther-engineering-group-ltd-halifax/
CATEGORIES:Visit
END:VEVENT
BEGIN:VEVENT
DTSTART;TZID=Europe/London:20040501T200000
DTEND;TZID=Europe/London:20040501T220000
DTSTAMP:20260416T223219
CREATED:20260109T171519Z
LAST-MODIFIED:20260109T171524Z
UID:2746-1083441600-1083448800@kaoe.org.uk
SUMMARY:Visit to Esholt Sewerage Works
DESCRIPTION:
URL:https://kaoe.org.uk/event/visit-to-esholt-sewerage-works/
CATEGORIES:Visit
END:VEVENT
BEGIN:VEVENT
DTSTART;TZID=Europe/London:20040201T190000
DTEND;TZID=Europe/London:20040201T200000
DTSTAMP:20260416T223219
CREATED:20260109T171809Z
LAST-MODIFIED:20260109T171809Z
UID:2750-1075662000-1075665600@kaoe.org.uk
SUMMARY:Visit to Spooner Industries
DESCRIPTION:
URL:https://kaoe.org.uk/event/visit-to-spooner-industries-2/
CATEGORIES:Visit
END:VEVENT
BEGIN:VEVENT
DTSTART;TZID=Europe/London:20031201T190000
DTEND;TZID=Europe/London:20031201T200000
DTSTAMP:20260416T223219
CREATED:20260109T174752Z
LAST-MODIFIED:20260109T174752Z
UID:2754-1070305200-1070308800@kaoe.org.uk
SUMMARY:Visit to Eldon Technology
DESCRIPTION:
URL:https://kaoe.org.uk/event/visit-to-eldon-technology/
CATEGORIES:Visit
END:VEVENT
BEGIN:VEVENT
DTSTART;TZID=Europe/London:20031101T193000
DTEND;TZID=Europe/London:20031101T210000
DTSTAMP:20260416T223219
CREATED:20260109T082912Z
LAST-MODIFIED:20260112T145723Z
UID:2597-1067715000-1067720400@kaoe.org.uk
SUMMARY:Visit to Cameron Ironworks
DESCRIPTION:
URL:https://kaoe.org.uk/event/visit-to-cameron-ironworks/
CATEGORIES:Visit
END:VEVENT
BEGIN:VEVENT
DTSTART;TZID=Europe/London:20030901T200000
DTEND;TZID=Europe/London:20030901T210000
DTSTAMP:20260416T223219
CREATED:20260109T174925Z
LAST-MODIFIED:20260109T174925Z
UID:2758-1062446400-1062450000@kaoe.org.uk
SUMMARY:Visit to Landis Lund (Crosshills)
DESCRIPTION:
URL:https://kaoe.org.uk/event/visit-to-landis-lund-crosshills-3/
CATEGORIES:Visit
END:VEVENT
BEGIN:VEVENT
DTSTART;TZID=Europe/London:20030501T200000
DTEND;TZID=Europe/London:20030501T210000
DTSTAMP:20260416T223219
CREATED:20260109T175010Z
LAST-MODIFIED:20260111T141206Z
UID:2760-1051819200-1051822800@kaoe.org.uk
SUMMARY:Visit to Keighley Worth Valley Railway  Civil Engineering Project
DESCRIPTION:
URL:https://kaoe.org.uk/event/visit-to-keighley-worth-valley-railway-civil-engineering-project/
CATEGORIES:Visit
ATTACH;FMTTYPE=image/jpeg:https://kaoe.org.uk/wp-content/uploads/2013/09/keighley-worth-valley-railway.jpg
END:VEVENT
BEGIN:VEVENT
DTSTART;TZID=Europe/London:20030201T190000
DTEND;TZID=Europe/London:20030201T193000
DTSTAMP:20260416T223219
CREATED:20260109T175223Z
LAST-MODIFIED:20260109T175223Z
UID:2766-1044126000-1044127800@kaoe.org.uk
SUMMARY:Visit to Borg Warner
DESCRIPTION:
URL:https://kaoe.org.uk/event/visit-to-borg-warner/
CATEGORIES:Visit
END:VEVENT
BEGIN:VEVENT
DTSTART;TZID=Europe/London:20021201T190000
DTEND;TZID=Europe/London:20031201T200000
DTSTAMP:20260416T223219
CREATED:20260109T175303Z
LAST-MODIFIED:20260109T175303Z
UID:2768-1038769200-1070308800@kaoe.org.uk
SUMMARY:Visit to CarnaudMetalbox Engineering (Shipley)
DESCRIPTION:
URL:https://kaoe.org.uk/event/visit-to-carnaudmetalbox-engineering-shipley-2/
CATEGORIES:Visit
END:VEVENT
BEGIN:VEVENT
DTSTART;TZID=Europe/London:20020401T200000
DTEND;TZID=Europe/London:20020401T210000
DTSTAMP:20260416T223219
CREATED:20260109T175707Z
LAST-MODIFIED:20260109T175707Z
UID:2778-1017691200-1017694800@kaoe.org.uk
SUMMARY:Visit to Halco Drilling Int Ltd (Halifax)
DESCRIPTION:
URL:https://kaoe.org.uk/event/visit-to-halco-drilling-int-ltd-halifax/
CATEGORIES:Visit
END:VEVENT
END:VCALENDAR