BEGIN:VCALENDAR
VERSION:2.0
PRODID:-//Keighley Association of Engineers - ECPv6.15.20//NONSGML v1.0//EN
CALSCALE:GREGORIAN
METHOD:PUBLISH
X-WR-CALNAME:Keighley Association of Engineers
X-ORIGINAL-URL:https://kaoe.org.uk
X-WR-CALDESC:Events for Keighley Association of Engineers
REFRESH-INTERVAL;VALUE=DURATION:PT1H
X-Robots-Tag:noindex
X-PUBLISHED-TTL:PT1H
BEGIN:VTIMEZONE
TZID:Europe/London
BEGIN:DAYLIGHT
TZOFFSETFROM:+0000
TZOFFSETTO:+0100
TZNAME:BST
DTSTART:20020331T010000
END:DAYLIGHT
BEGIN:STANDARD
TZOFFSETFROM:+0100
TZOFFSETTO:+0000
TZNAME:GMT
DTSTART:20021027T010000
END:STANDARD
BEGIN:DAYLIGHT
TZOFFSETFROM:+0000
TZOFFSETTO:+0100
TZNAME:BST
DTSTART:20030330T010000
END:DAYLIGHT
BEGIN:STANDARD
TZOFFSETFROM:+0100
TZOFFSETTO:+0000
TZNAME:GMT
DTSTART:20031026T010000
END:STANDARD
BEGIN:DAYLIGHT
TZOFFSETFROM:+0000
TZOFFSETTO:+0100
TZNAME:BST
DTSTART:20040328T010000
END:DAYLIGHT
BEGIN:STANDARD
TZOFFSETFROM:+0100
TZOFFSETTO:+0000
TZNAME:GMT
DTSTART:20041031T010000
END:STANDARD
BEGIN:DAYLIGHT
TZOFFSETFROM:+0000
TZOFFSETTO:+0100
TZNAME:BST
DTSTART:20050327T010000
END:DAYLIGHT
BEGIN:STANDARD
TZOFFSETFROM:+0100
TZOFFSETTO:+0000
TZNAME:GMT
DTSTART:20051030T010000
END:STANDARD
BEGIN:DAYLIGHT
TZOFFSETFROM:+0000
TZOFFSETTO:+0100
TZNAME:BST
DTSTART:20060326T010000
END:DAYLIGHT
BEGIN:STANDARD
TZOFFSETFROM:+0100
TZOFFSETTO:+0000
TZNAME:GMT
DTSTART:20061029T010000
END:STANDARD
BEGIN:DAYLIGHT
TZOFFSETFROM:+0000
TZOFFSETTO:+0100
TZNAME:BST
DTSTART:20070325T010000
END:DAYLIGHT
BEGIN:STANDARD
TZOFFSETFROM:+0100
TZOFFSETTO:+0000
TZNAME:GMT
DTSTART:20071028T010000
END:STANDARD
BEGIN:DAYLIGHT
TZOFFSETFROM:+0000
TZOFFSETTO:+0100
TZNAME:BST
DTSTART:20080330T010000
END:DAYLIGHT
BEGIN:STANDARD
TZOFFSETFROM:+0100
TZOFFSETTO:+0000
TZNAME:GMT
DTSTART:20081026T010000
END:STANDARD
BEGIN:DAYLIGHT
TZOFFSETFROM:+0000
TZOFFSETTO:+0100
TZNAME:BST
DTSTART:20090329T010000
END:DAYLIGHT
BEGIN:STANDARD
TZOFFSETFROM:+0100
TZOFFSETTO:+0000
TZNAME:GMT
DTSTART:20091025T010000
END:STANDARD
BEGIN:DAYLIGHT
TZOFFSETFROM:+0000
TZOFFSETTO:+0100
TZNAME:BST
DTSTART:20100328T010000
END:DAYLIGHT
BEGIN:STANDARD
TZOFFSETFROM:+0100
TZOFFSETTO:+0000
TZNAME:GMT
DTSTART:20101031T010000
END:STANDARD
BEGIN:DAYLIGHT
TZOFFSETFROM:+0000
TZOFFSETTO:+0100
TZNAME:BST
DTSTART:20110327T010000
END:DAYLIGHT
BEGIN:STANDARD
TZOFFSETFROM:+0100
TZOFFSETTO:+0000
TZNAME:GMT
DTSTART:20111030T010000
END:STANDARD
BEGIN:DAYLIGHT
TZOFFSETFROM:+0000
TZOFFSETTO:+0100
TZNAME:BST
DTSTART:20120325T010000
END:DAYLIGHT
BEGIN:STANDARD
TZOFFSETFROM:+0100
TZOFFSETTO:+0000
TZNAME:GMT
DTSTART:20121028T010000
END:STANDARD
BEGIN:DAYLIGHT
TZOFFSETFROM:+0000
TZOFFSETTO:+0100
TZNAME:BST
DTSTART:20130331T010000
END:DAYLIGHT
BEGIN:STANDARD
TZOFFSETFROM:+0100
TZOFFSETTO:+0000
TZNAME:GMT
DTSTART:20131027T010000
END:STANDARD
BEGIN:DAYLIGHT
TZOFFSETFROM:+0000
TZOFFSETTO:+0100
TZNAME:BST
DTSTART:20140330T010000
END:DAYLIGHT
BEGIN:STANDARD
TZOFFSETFROM:+0100
TZOFFSETTO:+0000
TZNAME:GMT
DTSTART:20141026T010000
END:STANDARD
BEGIN:DAYLIGHT
TZOFFSETFROM:+0000
TZOFFSETTO:+0100
TZNAME:BST
DTSTART:20150329T010000
END:DAYLIGHT
BEGIN:STANDARD
TZOFFSETFROM:+0100
TZOFFSETTO:+0000
TZNAME:GMT
DTSTART:20151025T010000
END:STANDARD
END:VTIMEZONE
BEGIN:VEVENT
DTSTART;TZID=Europe/London:20140305T193000
DTEND;TZID=Europe/London:20140305T210000
DTSTAMP:20260415T235729
CREATED:20260109T081520Z
LAST-MODIFIED:20260202T172439Z
UID:2583-1394047800-1394053200@kaoe.org.uk
SUMMARY:Mr Richard Gibbon - the manufacture of a historical model locomotive
DESCRIPTION:A talk by Mr Richard Gibbon on the building of a one fifth full size model of the first Beyer Peacock Isle of Man Locomotive.\n\nRichard Gibbon has an extensive railway preservation CV. He was head of Engineering & Collections at the\nNational Railway Museum in York from 1989 until he retired in 2003.\n\nHe has remained very active since then as a Heritage Advisor to the Heritage Railway Association and also as an expert advisor to the Heritage Lottery Fund on railway matters.\n\nRichard is also a current member of the Railway Heritage Committee.\n\n“He was awarded the OBE (Officer of the Order of the British Empire) in the 2004 Queen’s New Years Honours List for his services to Museums.\n\nRichard was the former head of Engineering Collections at the National Railway Museum\, York\n\n \n\n\nFlyer: A talk by Mr Richard Gibbon on the manufacture of a historical model locomotive.
URL:https://kaoe.org.uk/event/mr-richard-gibbon-the-manufacture-of-a-historical-model-locomotive/
LOCATION:Phoenix Service Solutions Ltd\, Cedar House\, Aire Valley Business Centre\, Lawkholme Lane\, Keighley\, BD21 3BB\, United Kingdom
CATEGORIES:Talks
ATTACH;FMTTYPE=image/png:https://kaoe.org.uk/wp-content/uploads/2026/01/model_loco_1.png
END:VEVENT
BEGIN:VEVENT
DTSTART;TZID=Europe/London:20131205T193000
DTEND;TZID=Europe/London:20131205T210000
DTSTAMP:20260415T235729
CREATED:20260109T082444Z
LAST-MODIFIED:20260202T172447Z
UID:2591-1386271800-1386277200@kaoe.org.uk
SUMMARY:Mr. Brian Hartness on the Edward Crossley Telescope
DESCRIPTION:Thursday\, 5 December 2013 at 19:30\n\nFlyer: The Edward Crossley Telescope\, a talk by Brian Hartness
URL:https://kaoe.org.uk/event/mr-brian-hartness-on-the-edward-crossley-telescope/
CATEGORIES:Talks
ATTACH;FMTTYPE=image/jpeg:https://kaoe.org.uk/wp-content/uploads/2013/12/image004.jpg
END:VEVENT
BEGIN:VEVENT
DTSTART;TZID=Europe/London:20130424T203000
DTEND;TZID=Europe/London:20130424T220000
DTSTAMP:20260415T235729
CREATED:20260109T110214Z
LAST-MODIFIED:20260202T173227Z
UID:2605-1366835400-1366840800@kaoe.org.uk
SUMMARY:Mr. Brian Hartness - Industrial Diamonds
DESCRIPTION:The Keighley Association of Engineers is pleased to announce its next event in the 2013 syllabus\, a talk by Mr Brian Hartness on the mechanisation and cutting of industrial diamonds. \nBrian Hartness is the son of the former general manager at Asquith Engineering in Halifax and comes highly recommended to the Association having provided similar talks to many different organisations. \nFlyer: Industrial Diamonds\, a talk by Brian Hartness
URL:https://kaoe.org.uk/event/mr-brian-hartness-industrial-diamonds/
CATEGORIES:Talks
ATTACH;FMTTYPE=image/jpeg:https://kaoe.org.uk/wp-content/uploads/2013/04/industrial-diamonds.jpg
END:VEVENT
BEGIN:VEVENT
DTSTART;TZID=Europe/London:20130227T193000
DTEND;TZID=Europe/London:20130227T210000
DTSTAMP:20260415T235729
CREATED:20260109T111021Z
LAST-MODIFIED:20260202T175659Z
UID:2609-1361993400-1361998800@kaoe.org.uk
SUMMARY:Mr Malcolm Collins - Metal Casting Technologies
DESCRIPTION:The Keighley Association of Engineers is pleased to announce its next event in the 2013 syllabus\, a talk by Malcolm Collins who is the North East Branch Secretary for the ICME. \nICME is the Institute of Cast Metals Engineers\, the Institute for all individuals involved in the castings industry and associated industries\, founded in 1904. \nICME Members include foundrymen\, design engineers\, metallurgists\, moulders\, patternmakers\, CAD technicians\, methods engineers\, researchers\, students and suppliers to the industry. The aim of the institute is to bring together people from all sectors and levels\, to offer help and advice\, provide technical support and professional development opportunities. \nMalcolm has worked within this industry for “more years than he cares to remember” and has a wealth of experience to share with us.  \nWe may know something about “cast Iron” but what about less mainstream casting materials and associated technologies \nFlyer: Metals Casting Technologies\, a talk by Malcolm Collins
URL:https://kaoe.org.uk/event/mr-malcolm-collins-metal-casting-technologies/
CATEGORIES:Talks
ATTACH;FMTTYPE=image/jpeg:https://kaoe.org.uk/wp-content/uploads/2016/04/steel-casting.jpeg
END:VEVENT
BEGIN:VEVENT
DTSTART;TZID=Europe/London:20130115T193000
DTEND;TZID=Europe/London:20130115T193000
DTSTAMP:20260415T235729
CREATED:20260109T111333Z
LAST-MODIFIED:20260115T152328Z
UID:2613-1358278200-1358278200@kaoe.org.uk
SUMMARY:Mr. Barrie Yates - The machine that changed the world
DESCRIPTION:15th January 2013 \nAire Valley Business Centre\, Keighley \nFlyer: The Machine that changed the world by Barrie Yates
URL:https://kaoe.org.uk/event/mr-barrie-yates-the-machine-that-changed-the-world/
CATEGORIES:Talks
END:VEVENT
BEGIN:VEVENT
DTSTART;TZID=Europe/London:20111109T193000
DTEND;TZID=Europe/London:20111109T220000
DTSTAMP:20260415T235729
CREATED:20260109T113321Z
LAST-MODIFIED:20260202T172459Z
UID:2629-1320867000-1320876000@kaoe.org.uk
SUMMARY:Mr Andy Shackleton - Skipton East Lancs Railway Action
DESCRIPTION:Wednesday\, 9 November 2011  at 19:30\n\nFlyer: A lecture by Andy Shackleton from the Skipton East Lancs Railway Action
URL:https://kaoe.org.uk/event/mr-andy-shackleton-skipton-east-lancs-railway-action/
CATEGORIES:Talks
END:VEVENT
BEGIN:VEVENT
DTSTART;TZID=Europe/London:20111004T203000
DTEND;TZID=Europe/London:20111004T220000
DTSTAMP:20260415T235729
CREATED:20260109T113658Z
LAST-MODIFIED:20260202T172502Z
UID:2633-1317760200-1317765600@kaoe.org.uk
SUMMARY:Mr Richard Gibbon - History of Leeds Steam Crane Building
DESCRIPTION:Tuesday\, 4 October 2011 at 19:30\n\nFlyer: A lecture on the history of Leeds Steam Crane building\, by Richard Gibbon OBE
URL:https://kaoe.org.uk/event/mr-richard-gibbon-history-of-leeds-steam-crane-building/
CATEGORIES:Talks
END:VEVENT
BEGIN:VEVENT
DTSTART;TZID=Europe/London:20110421T203000
DTEND;TZID=Europe/London:20110421T220000
DTSTAMP:20260415T235729
CREATED:20260109T112017Z
LAST-MODIFIED:20260202T172510Z
UID:2615-1303417800-1303423200@kaoe.org.uk
SUMMARY:Mr Barrie Yates - Ekranoplans and the Caspian Sea Monsters
DESCRIPTION:Thursday\, 21 April 2011 7:30pm\n\nFlyer: A Talk by Barrie Yates
URL:https://kaoe.org.uk/event/mr-barrie-yates-ekranoplans-and-the-caspian-sea-monsters/
CATEGORIES:Talks
END:VEVENT
BEGIN:VEVENT
DTSTART;TZID=Europe/London:20110222T193000
DTEND;TZID=Europe/London:20110222T210000
DTSTAMP:20260415T235729
CREATED:20260109T131059Z
LAST-MODIFIED:20260202T172513Z
UID:2639-1298403000-1298408400@kaoe.org.uk
SUMMARY:Mr Richard Atkinson- Lubrication\, Application and Best Practice
DESCRIPTION:Tuesday\, 22 February 2011 at 19:30\n\nFlyer: “Best Practice” Lubrication Application & Management
URL:https://kaoe.org.uk/event/mr-richard-atkinson-lubrication-application-and-best-practice/
CATEGORIES:Talks
END:VEVENT
BEGIN:VEVENT
DTSTART;TZID=Europe/London:20100201T190000
DTEND;TZID=Europe/London:20100201T210000
DTSTAMP:20260415T235729
CREATED:20260109T132558Z
LAST-MODIFIED:20260202T172520Z
UID:2651-1265050800-1265058000@kaoe.org.uk
SUMMARY:Sandik Cormorant - A history of metalcutting by
DESCRIPTION:Monday\, 1 February 2010  at 19:00\n\nSouth Craven School Technology Centre
URL:https://kaoe.org.uk/event/sandik-cormorant-a-history-of-metalcutting-by/
CATEGORIES:Talks
END:VEVENT
BEGIN:VEVENT
DTSTART;TZID=Europe/London:20100101T190000
DTEND;TZID=Europe/London:20100101T210000
DTSTAMP:20260415T235729
CREATED:20260109T132710Z
LAST-MODIFIED:20260202T172529Z
UID:2653-1262372400-1262379600@kaoe.org.uk
SUMMARY:A formula for Success by Huddersfield Race Team
DESCRIPTION:Friday\, 1 January 2010 at 19:00:00
URL:https://kaoe.org.uk/event/a-formula-for-success-by-huddersfield-race-team/
CATEGORIES:Talks
END:VEVENT
BEGIN:VEVENT
DTSTART;TZID=Europe/London:20090301T190000
DTEND;TZID=Europe/London:20090301T210000
DTSTAMP:20260415T235729
CREATED:20260109T151622Z
LAST-MODIFIED:20260202T172533Z
UID:2664-1235934000-1235941200@kaoe.org.uk
SUMMARY:Mr Ian Dewhurst - Keighley's Social and Industrial History
DESCRIPTION:Sunday\, 1 March 2009 at 19:00
URL:https://kaoe.org.uk/event/mr-ian-dewhurst-keighleys-social-and-industrial-history/
CATEGORIES:Talks
END:VEVENT
BEGIN:VEVENT
DTSTART;TZID=Europe/London:20090201T190000
DTEND;TZID=Europe/London:20090201T210000
DTSTAMP:20260415T235729
CREATED:20260109T151720Z
LAST-MODIFIED:20260202T172535Z
UID:2666-1233514800-1233522000@kaoe.org.uk
SUMMARY:Mr Richard Atkinson - Lubrication of modern railtrack systems
DESCRIPTION:Sunday\, 1 February 2009 at 19:00
URL:https://kaoe.org.uk/event/mr-richard-atkinson-lubrication-of-modern-railtrack-systems/
CATEGORIES:Talks
END:VEVENT
BEGIN:VEVENT
DTSTART;TZID=Europe/London:20081201T190000
DTEND;TZID=Europe/London:20081201T210000
DTSTAMP:20260415T235729
CREATED:20260109T151946Z
LAST-MODIFIED:20260202T172541Z
UID:2670-1228158000-1228165200@kaoe.org.uk
SUMMARY:Design to Installation - CNC Orbital Pin & Mains Grinder LT3
DESCRIPTION:Monday\, 1 December 2008 at 19:00
URL:https://kaoe.org.uk/event/design-to-installation-cnc-orbital-pin-mains-grinder-lt3/
CATEGORIES:Talks
END:VEVENT
BEGIN:VEVENT
DTSTART;TZID=Europe/London:20080301T190000
DTEND;TZID=Europe/London:20080301T210000
DTSTAMP:20260415T235729
CREATED:20260109T152853Z
LAST-MODIFIED:20260109T152853Z
UID:2684-1204398000-1204405200@kaoe.org.uk
SUMMARY:Restoring Reed Organs & Harmoniums at Shipley Museum
DESCRIPTION:Saturday\, 1 March 2008 at 19:00
URL:https://kaoe.org.uk/event/restoring-reed-organs-harmoniums-at-shipley-museum/
CATEGORIES:Talks
END:VEVENT
BEGIN:VEVENT
DTSTART;TZID=Europe/London:20080101T190000
DTEND;TZID=Europe/London:20080101T210000
DTSTAMP:20260415T235729
CREATED:20260109T153229Z
LAST-MODIFIED:20260109T153229Z
UID:2688-1199214000-1199221200@kaoe.org.uk
SUMMARY:Mr Bruce MacDougall - Bridging Ingrow
DESCRIPTION:Tuesday\, 1 January 2008 at 19:00
URL:https://kaoe.org.uk/event/mr-bruce-macdougall-bridging-ingrow/
CATEGORIES:Talks
END:VEVENT
BEGIN:VEVENT
DTSTART;TZID=Europe/London:20071201T190000
DTEND;TZID=Europe/London:20071201T210000
DTSTAMP:20260415T235729
CREATED:20260109T153332Z
LAST-MODIFIED:20260109T153332Z
UID:2690-1196535600-1196542800@kaoe.org.uk
SUMMARY:Mr Gordon Bartley - Concorde
DESCRIPTION:Saturday\, 1 December 2007 at 19:00
URL:https://kaoe.org.uk/event/mr-gordon-bartley-concorde/
CATEGORIES:Talks
END:VEVENT
BEGIN:VEVENT
DTSTART;TZID=Europe/London:20070201T190000
DTEND;TZID=Europe/London:20070201T210000
DTSTAMP:20260415T235729
CREATED:20260109T155051Z
LAST-MODIFIED:20260109T155051Z
UID:2704-1170356400-1170363600@kaoe.org.uk
SUMMARY:Mr Brian Kerridge - Building the Humber Bridge
DESCRIPTION:Thursday\, 1 February 2007 at 19:00
URL:https://kaoe.org.uk/event/mr-brian-kerridge-building-the-humber-bridge/
CATEGORIES:Talks
END:VEVENT
BEGIN:VEVENT
DTSTART;TZID=Europe/London:20070201T190000
DTEND;TZID=Europe/London:20070201T210000
DTSTAMP:20260415T235729
CREATED:20260109T154748Z
LAST-MODIFIED:20260109T154748Z
UID:2702-1170356400-1170363600@kaoe.org.uk
SUMMARY:Mr Mike Cope - Carriage Restoration
DESCRIPTION:
URL:https://kaoe.org.uk/event/mr-mike-cope-carriage-restoration/
CATEGORIES:Talks
END:VEVENT
BEGIN:VEVENT
DTSTART;TZID=Europe/London:20061101T190000
DTEND;TZID=Europe/London:20061101T210000
DTSTAMP:20260415T235729
CREATED:20260109T155503Z
LAST-MODIFIED:20260109T155936Z
UID:2708-1162407600-1162414800@kaoe.org.uk
SUMMARY:Mr Mike Gill - Leadmining in the Yorkshire Dales
DESCRIPTION:Wednesday\, 1 November 2006  at 19:00
URL:https://kaoe.org.uk/event/mr-mike-gill-leadmining-in-the-yorkshire-dales/
CATEGORIES:Talks
END:VEVENT
BEGIN:VEVENT
DTSTART;TZID=Europe/London:20061001T200000
DTEND;TZID=Europe/London:20061001T220000
DTSTAMP:20260415T235729
CREATED:20260109T160038Z
LAST-MODIFIED:20260109T160038Z
UID:2710-1159732800-1159740000@kaoe.org.uk
SUMMARY:Mr Richard Atkinson - High Speed Lubrication in Formula 1 Motor Sport
DESCRIPTION:Sunday\, 1 October 2006 at 19:00
URL:https://kaoe.org.uk/event/mr-richard-atkinson-high-speed-lubrication-in-formula-1-motor-sport/
CATEGORIES:Talks
END:VEVENT
BEGIN:VEVENT
DTSTART;TZID=Europe/London:20060501T200000
DTEND;TZID=Europe/London:20060501T220000
DTSTAMP:20260415T235729
CREATED:20260109T165000Z
LAST-MODIFIED:20260109T165000Z
UID:2714-1146513600-1146520800@kaoe.org.uk
SUMMARY:Ledture on Lubrication Bearings
DESCRIPTION:
URL:https://kaoe.org.uk/event/ledture-on-lubrication-bearings/
CATEGORIES:Talks
END:VEVENT
BEGIN:VEVENT
DTSTART;TZID=Europe/London:20050901T200000
DTEND;TZID=Europe/London:20050901T210000
DTSTAMP:20260415T235729
CREATED:20260109T170206Z
LAST-MODIFIED:20260109T170206Z
UID:2724-1125604800-1125608400@kaoe.org.uk
SUMMARY:Richard Atkinson - Lubrication of Wind Turbines
DESCRIPTION:
URL:https://kaoe.org.uk/event/richard-atkinson-lubrication-of-wind-turbines/
CATEGORIES:Talks
END:VEVENT
BEGIN:VEVENT
DTSTART;TZID=Europe/London:20050301T190000
DTEND;TZID=Europe/London:20050301T210000
DTSTAMP:20260415T235729
CREATED:20260109T170803Z
LAST-MODIFIED:20260116T191310Z
UID:2734-1109703600-1109710800@kaoe.org.uk
SUMMARY:Mr Bruce MacDougal - The Hong Kong Mass Transit Railway
DESCRIPTION:
URL:https://kaoe.org.uk/event/mr-bruce-macdougal-the-hong-kong-mass-transit-railway/
CATEGORIES:Talks
END:VEVENT
BEGIN:VEVENT
DTSTART;TZID=Europe/London:20050201T190000
DTEND;TZID=Europe/London:20050201T200000
DTSTAMP:20260415T235729
CREATED:20260109T170908Z
LAST-MODIFIED:20260109T170908Z
UID:2736-1107284400-1107288000@kaoe.org.uk
SUMMARY:Mrs J Newsham - South Africa
DESCRIPTION:
URL:https://kaoe.org.uk/event/mrs-j-newsham-south-africa/
CATEGORIES:Talks
END:VEVENT
BEGIN:VEVENT
DTSTART;TZID=Europe/London:20041101T190000
DTEND;TZID=Europe/London:20041101T200000
DTSTAMP:20260415T235729
CREATED:20260109T171231Z
LAST-MODIFIED:20260109T171231Z
UID:2740-1099335600-1099339200@kaoe.org.uk
SUMMARY:Mr Michael Laycock - 19th Century Engineering
DESCRIPTION:
URL:https://kaoe.org.uk/event/mr-michael-laycock-19th-century-engineering/
CATEGORIES:Talks
END:VEVENT
BEGIN:VEVENT
DTSTART;TZID=Europe/London:20040901T200000
DTEND;TZID=Europe/London:20040901T220000
DTSTAMP:20260415T235729
CREATED:20260109T171425Z
LAST-MODIFIED:20260109T171425Z
UID:2744-1094068800-1094076000@kaoe.org.uk
SUMMARY:Biodegradable Lubricants and Applications in Engineering
DESCRIPTION:
URL:https://kaoe.org.uk/event/biodegradable-lubricants-and-applications-in-engineering/
CATEGORIES:Talks
END:VEVENT
BEGIN:VEVENT
DTSTART;TZID=Europe/London:20040301T190000
DTEND;TZID=Europe/London:20040301T210000
DTSTAMP:20260415T235729
CREATED:20260109T171620Z
LAST-MODIFIED:20260109T171620Z
UID:2748-1078167600-1078174800@kaoe.org.uk
SUMMARY:The Falkirk Wheel Project
DESCRIPTION:
URL:https://kaoe.org.uk/event/the-falkirk-wheel-project/
CATEGORIES:Talks
END:VEVENT
BEGIN:VEVENT
DTSTART;TZID=Europe/London:20031001T200000
DTEND;TZID=Europe/London:20031001T210000
DTSTAMP:20260415T235729
CREATED:20260109T174841Z
LAST-MODIFIED:20260109T174841Z
UID:2756-1065038400-1065042000@kaoe.org.uk
SUMMARY:Lecture on Kluber Lubricants
DESCRIPTION:
URL:https://kaoe.org.uk/event/lecture-on-kluber-lubricants/
CATEGORIES:Talks
END:VEVENT
BEGIN:VEVENT
DTSTART;TZID=Europe/London:20030301T190000
DTEND;TZID=Europe/London:20030301T200000
DTSTAMP:20260415T235729
CREATED:20260109T175054Z
LAST-MODIFIED:20260116T191304Z
UID:2762-1046545200-1046548800@kaoe.org.uk
SUMMARY:Lecture on the Bingley Relief Road  AMEC
DESCRIPTION:
URL:https://kaoe.org.uk/event/lecture-on-the-bingley-relief-road-amec/
CATEGORIES:Talks
END:VEVENT
END:VCALENDAR