BEGIN:VCALENDAR
VERSION:2.0
PRODID:-//Keighley Association of Engineers - ECPv6.15.20//NONSGML v1.0//EN
CALSCALE:GREGORIAN
METHOD:PUBLISH
X-ORIGINAL-URL:https://kaoe.org.uk
X-WR-CALDESC:Events for Keighley Association of Engineers
REFRESH-INTERVAL;VALUE=DURATION:PT1H
X-Robots-Tag:noindex
X-PUBLISHED-TTL:PT1H
BEGIN:VTIMEZONE
TZID:Europe/London
BEGIN:DAYLIGHT
TZOFFSETFROM:+0000
TZOFFSETTO:+0100
TZNAME:BST
DTSTART:19990328T010000
END:DAYLIGHT
BEGIN:STANDARD
TZOFFSETFROM:+0100
TZOFFSETTO:+0000
TZNAME:GMT
DTSTART:19991031T010000
END:STANDARD
BEGIN:DAYLIGHT
TZOFFSETFROM:+0000
TZOFFSETTO:+0100
TZNAME:BST
DTSTART:20000326T010000
END:DAYLIGHT
BEGIN:STANDARD
TZOFFSETFROM:+0100
TZOFFSETTO:+0000
TZNAME:GMT
DTSTART:20001029T010000
END:STANDARD
BEGIN:DAYLIGHT
TZOFFSETFROM:+0000
TZOFFSETTO:+0100
TZNAME:BST
DTSTART:20010325T010000
END:DAYLIGHT
BEGIN:STANDARD
TZOFFSETFROM:+0100
TZOFFSETTO:+0000
TZNAME:GMT
DTSTART:20011028T010000
END:STANDARD
END:VTIMEZONE
BEGIN:VEVENT
DTSTART;TZID=Europe/London:20001001T200000
DTEND;TZID=Europe/London:20001001T200000
DTSTAMP:20260416T205713
CREATED:20260109T181119Z
LAST-MODIFIED:20260109T181119Z
UID:2798-970430400-970430400@kaoe.org.uk
SUMMARY:Mr Stuart Everitt (from Carl Stahl) - The Manufacture and Use of Chains for Lifting
DESCRIPTION:
URL:https://kaoe.org.uk/event/mr-stuart-everitt-from-carl-stahl-the-manufacture-and-use-of-chains-for-lifting/
CATEGORIES:Talks
END:VEVENT
END:VCALENDAR