BEGIN:VCALENDAR
VERSION:2.0
PRODID:-//Keighley Association of Engineers - ECPv6.15.20//NONSGML v1.0//EN
CALSCALE:GREGORIAN
METHOD:PUBLISH
X-ORIGINAL-URL:https://kaoe.org.uk
X-WR-CALDESC:Events for Keighley Association of Engineers
REFRESH-INTERVAL;VALUE=DURATION:PT1H
X-Robots-Tag:noindex
X-PUBLISHED-TTL:PT1H
BEGIN:VTIMEZONE
TZID:Europe/London
BEGIN:DAYLIGHT
TZOFFSETFROM:+0000
TZOFFSETTO:+0100
TZNAME:BST
DTSTART:19990328T010000
END:DAYLIGHT
BEGIN:STANDARD
TZOFFSETFROM:+0100
TZOFFSETTO:+0000
TZNAME:GMT
DTSTART:19991031T010000
END:STANDARD
BEGIN:DAYLIGHT
TZOFFSETFROM:+0000
TZOFFSETTO:+0100
TZNAME:BST
DTSTART:20000326T010000
END:DAYLIGHT
BEGIN:STANDARD
TZOFFSETFROM:+0100
TZOFFSETTO:+0000
TZNAME:GMT
DTSTART:20001029T010000
END:STANDARD
BEGIN:DAYLIGHT
TZOFFSETFROM:+0000
TZOFFSETTO:+0100
TZNAME:BST
DTSTART:20010325T010000
END:DAYLIGHT
BEGIN:STANDARD
TZOFFSETFROM:+0100
TZOFFSETTO:+0000
TZNAME:GMT
DTSTART:20011028T010000
END:STANDARD
BEGIN:DAYLIGHT
TZOFFSETFROM:+0000
TZOFFSETTO:+0100
TZNAME:BST
DTSTART:20020331T010000
END:DAYLIGHT
BEGIN:STANDARD
TZOFFSETFROM:+0100
TZOFFSETTO:+0000
TZNAME:GMT
DTSTART:20021027T010000
END:STANDARD
BEGIN:DAYLIGHT
TZOFFSETFROM:+0000
TZOFFSETTO:+0100
TZNAME:BST
DTSTART:20030330T010000
END:DAYLIGHT
BEGIN:STANDARD
TZOFFSETFROM:+0100
TZOFFSETTO:+0000
TZNAME:GMT
DTSTART:20031026T010000
END:STANDARD
END:VTIMEZONE
BEGIN:VEVENT
DTSTART;TZID=Europe/London:20020201T190000
DTEND;TZID=Europe/London:20020201T200000
DTSTAMP:20260416T115517
CREATED:20260109T180405Z
LAST-MODIFIED:20260109T180405Z
UID:2782-1012590000-1012593600@kaoe.org.uk
SUMMARY:Solid Modelling for Machine Design by Landis Lund
DESCRIPTION:
URL:https://kaoe.org.uk/event/solid-modelling-for-machine-design-by-landis-lund/
CATEGORIES:Talks
END:VEVENT
BEGIN:VEVENT
DTSTART;TZID=Europe/London:20020101T190000
DTEND;TZID=Europe/London:20020101T190000
DTSTAMP:20260416T115517
CREATED:20260109T180503Z
LAST-MODIFIED:20260109T180503Z
UID:2784-1009911600-1009911600@kaoe.org.uk
SUMMARY:Carl Stahl by 3tin Pick
DESCRIPTION:
URL:https://kaoe.org.uk/event/carl-stahl-by-3tin-pick/
CATEGORIES:Talks
END:VEVENT
BEGIN:VEVENT
DTSTART;TZID=Europe/London:20010901T200000
DTEND;TZID=Europe/London:20010901T200000
DTSTAMP:20260416T115517
CREATED:20260109T180554Z
LAST-MODIFIED:20260109T180602Z
UID:2786-999374400-999374400@kaoe.org.uk
SUMMARY:Mr Richard Atkinson - The Lubrication of Roller Bearing
DESCRIPTION:
URL:https://kaoe.org.uk/event/mr-richard-atkinson-the-lubrication-of-roller-bearing/
CATEGORIES:Talks
END:VEVENT
BEGIN:VEVENT
DTSTART;TZID=Europe/London:20010301T190000
DTEND;TZID=Europe/London:20010301T200000
DTSTAMP:20260416T115517
CREATED:20260109T180735Z
LAST-MODIFIED:20260109T180735Z
UID:2790-983473200-983476800@kaoe.org.uk
SUMMARY:Mr Dick Etheridge - Austin to BMW
DESCRIPTION:
URL:https://kaoe.org.uk/event/mr-dick-etheridge-austin-to-bmw/
CATEGORIES:Talks
END:VEVENT
BEGIN:VEVENT
DTSTART;TZID=Europe/London:20010201T190000
DTEND;TZID=Europe/London:20010201T190000
DTSTAMP:20260416T115517
CREATED:20260109T180815Z
LAST-MODIFIED:20260109T180815Z
UID:2792-981054000-981054000@kaoe.org.uk
SUMMARY:Mr Bruce MacDougall - Leed 1st Update
DESCRIPTION:
URL:https://kaoe.org.uk/event/mr-bruce-macdougall-leed-1st-update/
CATEGORIES:Talks
END:VEVENT
BEGIN:VEVENT
DTSTART;TZID=Europe/London:20010101T190000
DTEND;TZID=Europe/London:20010101T190000
DTSTAMP:20260416T115517
CREATED:20260109T180858Z
LAST-MODIFIED:20260109T180858Z
UID:2794-978375600-978375600@kaoe.org.uk
SUMMARY:Mr Richard Atkinson - The Lubrication of Automotive Parts
DESCRIPTION:
URL:https://kaoe.org.uk/event/mr-richard-atkinson-the-lubrication-of-automotive-parts/
CATEGORIES:Talks
END:VEVENT
BEGIN:VEVENT
DTSTART;TZID=Europe/London:20001001T200000
DTEND;TZID=Europe/London:20001001T200000
DTSTAMP:20260416T115517
CREATED:20260109T181119Z
LAST-MODIFIED:20260109T181119Z
UID:2798-970430400-970430400@kaoe.org.uk
SUMMARY:Mr Stuart Everitt (from Carl Stahl) - The Manufacture and Use of Chains for Lifting
DESCRIPTION:
URL:https://kaoe.org.uk/event/mr-stuart-everitt-from-carl-stahl-the-manufacture-and-use-of-chains-for-lifting/
CATEGORIES:Talks
END:VEVENT
END:VCALENDAR